BEGIN:VCALENDAR
VERSION:2.0
PRODID:-//SkiDiscovery - ECPv6.15.20//NONSGML v1.0//EN
CALSCALE:GREGORIAN
METHOD:PUBLISH
X-WR-CALNAME:SkiDiscovery
X-ORIGINAL-URL:https://skidiscovery.nl
X-WR-CALDESC:Evenementen voor SkiDiscovery
REFRESH-INTERVAL;VALUE=DURATION:PT1H
X-Robots-Tag:noindex
X-PUBLISHED-TTL:PT1H
BEGIN:VTIMEZONE
TZID:UTC
BEGIN:STANDARD
TZOFFSETFROM:+0000
TZOFFSETTO:+0000
TZNAME:UTC
DTSTART:20160101T000000
END:STANDARD
END:VTIMEZONE
BEGIN:VEVENT
DTSTART;VALUE=DATE:20171227
DTEND;VALUE=DATE:20171228
DTSTAMP:20260421T195507
CREATED:20170608T112052Z
LAST-MODIFIED:20170608T112052Z
UID:2026-1514332800-1514419199@skidiscovery.nl
SUMMARY:Start kerstcursus A aanbieding
DESCRIPTION:Beste skiërs en snowboarders\, \nU en/of uw kinderen hebben vier dagen op hetzelfde tijdstip training en u krijgt een fikse korting op het tarief van flexibel boeken\, wanneer u voor deze cursus aanbieding kiest. De voorwaarden vindt u hier > \nDe tarieven zijn inclusief materiaal huur\, piste toegang en leraar. \nKinderen normaal € 128\,- korting € 29\,- = € 099\,-\nVolwassenen normaal € 140\,- korting € 21\,- = € 119\,- \nIk zie uw reservering graag tegemoet en verheug mij op uw komst!
URL:https://skidiscovery.nl/event/start-kerstcursus-a-aanbieding/
END:VEVENT
BEGIN:VEVENT
DTSTART;VALUE=DATE:20171103
DTEND;VALUE=DATE:20171104
DTSTAMP:20260421T195507
CREATED:20170607T134334Z
LAST-MODIFIED:20170607T141937Z
UID:2017-1509667200-1509753599@skidiscovery.nl
SUMMARY:Start nov/dec cursus aanbieding
DESCRIPTION:Beste skiërs en snowboarders\, \nZeven weken lang één uur training op dezelfde dag en tijd bij meestal dezelfde leraar. U krijgt in deze periode van het seizoen een fikse korting op het tarief van flexibel boeken\, wanneer u voor deze cursus aanbieding kiest. De voorwaarden vindt u hier >. De tarieven zijn inclusief materiaal huur\, piste toegang en gecertificeerde leraar. \nKinderen normaal € 219\,- korting € 70\,- = € 149\,-\nVolwassenen normaal € 239\,- korting € 50\,- = € 189\,- \nIk zie uw reservering graag tegemoet en verheug mij op uw komst!
URL:https://skidiscovery.nl/event/novdec-cursus-aanbieding/
END:VEVENT
BEGIN:VEVENT
DTSTART;TZID=UTC:20171029T080000
DTEND;TZID=UTC:20171029T080000
DTSTAMP:20260421T195507
CREATED:20170620T122806Z
LAST-MODIFIED:20170620T122806Z
UID:2362-1509264000-1509264000@skidiscovery.nl
SUMMARY:Training Ski Team te SkiDiscovery
DESCRIPTION:
URL:https://skidiscovery.nl/event/training-ski-team-skidiscovery-2/
END:VEVENT
BEGIN:VEVENT
DTSTART;TZID=UTC:20171027T170000
DTEND;TZID=UTC:20171027T183000
DTSTAMP:20260421T195507
CREATED:20170620T101808Z
LAST-MODIFIED:20170917T121712Z
UID:2244-1509123600-1509129000@skidiscovery.nl
SUMMARY:Training Ski Team te Snowworld
DESCRIPTION:
URL:https://skidiscovery.nl/event/training-ski-team-snowworld-2/
END:VEVENT
BEGIN:VEVENT
DTSTART;VALUE=DATE:20171017
DTEND;VALUE=DATE:20171018
DTSTAMP:20260421T195507
CREATED:20170607T134230Z
LAST-MODIFIED:20170607T141005Z
UID:2015-1508198400-1508284799@skidiscovery.nl
SUMMARY:Start herfstvakantie cursus aanbieding
DESCRIPTION:Beste skiërs\, \nTijdens de herfstvakantie bieden wij deze cursus aan. U en/of uw kinderen hebben vier dagen op hetzelfde tijdstip training en u krijgt een fikse korting op het tarief van flexibel boeken\, wanneer u voor deze cursus aanbieding kiest. De voorwaarden vindt u hier > \nDe tarieven zijn inclusief materiaal huur\, piste toegang en leraar. \nKinderen normaal € 128\,- korting € 55\,- = € 73\,-\nVolwassenen normaal € 140\,- korting € 41\,- = € 99\,- \nIk zie uw reservering graag tegemoet en verheug mij op uw komst!
URL:https://skidiscovery.nl/event/herfstvakantie-cursus-aanbieding/
END:VEVENT
BEGIN:VEVENT
DTSTART;TZID=UTC:20170917T080000
DTEND;TZID=UTC:20170917T130000
DTSTAMP:20260421T195507
CREATED:20170620T121741Z
LAST-MODIFIED:20170620T121741Z
UID:2357-1505635200-1505653200@skidiscovery.nl
SUMMARY:Training Ski Team te SkiDiscovery
DESCRIPTION:
URL:https://skidiscovery.nl/event/training-ski-team-skidiscovery/
END:VEVENT
BEGIN:VEVENT
DTSTART;TZID=UTC:20170915T170000
DTEND;TZID=UTC:20170915T183000
DTSTAMP:20260421T195507
CREATED:20170612T133107Z
LAST-MODIFIED:20170612T133107Z
UID:2053-1505494800-1505500200@skidiscovery.nl
SUMMARY:Training Ski Team te Snowworld
DESCRIPTION:
URL:https://skidiscovery.nl/event/training-ski-team-snowworld/
END:VEVENT
BEGIN:VEVENT
DTSTART;VALUE=DATE:20170915
DTEND;VALUE=DATE:20170916
DTSTAMP:20260421T195507
CREATED:20170607T132813Z
LAST-MODIFIED:20170607T140716Z
UID:2009-1505433600-1505519999@skidiscovery.nl
SUMMARY:Start sep/okt 2017 cursus aanbieding
DESCRIPTION:Beste skiërs en snowboarders\, \nZeven weken lang één uur training op dezelfde dag en tijd bij meestal dezelfde leraar. U krijgt in deze periode van het seizoen de hoogste korting op het tarief van flexibel boeken\, wanneer u voor deze cursus aanbieding kiest. De voorwaarden vindt u hier > \nDe tarieven zijn inclusief materiaal huur\, piste toegang en leraar. \nKinderen normaal € 219\,- korting € 90\,- = € 129\,-\nVolwassenen normaal € 239\,- korting € 70\,- = € 169\,- \nIk zie uw reservering graag tegemoet en verheug mij op uw komst!
URL:https://skidiscovery.nl/event/sepokt-2017-cursus-aanbieding/
LOCATION:SkiDiscovery\, Waterpas 99  \, Den Haag  \,  2495 AV \, Nederland
END:VEVENT
END:VCALENDAR