BEGIN:VCALENDAR
VERSION:2.0
PRODID:-//SkiDiscovery - ECPv6.15.20//NONSGML v1.0//EN
CALSCALE:GREGORIAN
METHOD:PUBLISH
X-WR-CALNAME:SkiDiscovery
X-ORIGINAL-URL:https://skidiscovery.nl
X-WR-CALDESC:Evenementen voor SkiDiscovery
REFRESH-INTERVAL;VALUE=DURATION:PT1H
X-Robots-Tag:noindex
X-PUBLISHED-TTL:PT1H
BEGIN:VTIMEZONE
TZID:UTC
BEGIN:STANDARD
TZOFFSETFROM:+0000
TZOFFSETTO:+0000
TZNAME:UTC
DTSTART:20160101T000000
END:STANDARD
END:VTIMEZONE
BEGIN:VEVENT
DTSTART;TZID=UTC:20170917T080000
DTEND;TZID=UTC:20170917T130000
DTSTAMP:20260421T213304
CREATED:20170620T121741Z
LAST-MODIFIED:20170620T121741Z
UID:2357-1505635200-1505653200@skidiscovery.nl
SUMMARY:Training Ski Team te SkiDiscovery
DESCRIPTION:
URL:https://skidiscovery.nl/event/training-ski-team-skidiscovery/
END:VEVENT
BEGIN:VEVENT
DTSTART;TZID=UTC:20170915T170000
DTEND;TZID=UTC:20170915T183000
DTSTAMP:20260421T213304
CREATED:20170612T133107Z
LAST-MODIFIED:20170612T133107Z
UID:2053-1505494800-1505500200@skidiscovery.nl
SUMMARY:Training Ski Team te Snowworld
DESCRIPTION:
URL:https://skidiscovery.nl/event/training-ski-team-snowworld/
END:VEVENT
BEGIN:VEVENT
DTSTART;VALUE=DATE:20170915
DTEND;VALUE=DATE:20170916
DTSTAMP:20260421T213304
CREATED:20170607T132813Z
LAST-MODIFIED:20170607T140716Z
UID:2009-1505433600-1505519999@skidiscovery.nl
SUMMARY:Start sep/okt 2017 cursus aanbieding
DESCRIPTION:Beste skiërs en snowboarders\, \nZeven weken lang één uur training op dezelfde dag en tijd bij meestal dezelfde leraar. U krijgt in deze periode van het seizoen de hoogste korting op het tarief van flexibel boeken\, wanneer u voor deze cursus aanbieding kiest. De voorwaarden vindt u hier > \nDe tarieven zijn inclusief materiaal huur\, piste toegang en leraar. \nKinderen normaal € 219\,- korting € 90\,- = € 129\,-\nVolwassenen normaal € 239\,- korting € 70\,- = € 169\,- \nIk zie uw reservering graag tegemoet en verheug mij op uw komst!
URL:https://skidiscovery.nl/event/sepokt-2017-cursus-aanbieding/
LOCATION:SkiDiscovery\, Waterpas 99  \, Den Haag  \,  2495 AV \, Nederland
END:VEVENT
END:VCALENDAR